BEGIN:VCALENDAR
VERSION:2.0
PRODID:-//Björkö-Arholma Hembygdsförening - ECPv6.3.3.1//NONSGML v1.0//EN
CALSCALE:GREGORIAN
METHOD:PUBLISH
X-ORIGINAL-URL:https://bjorkoarholma.se
X-WR-CALDESC:Events for Björkö-Arholma Hembygdsförening
REFRESH-INTERVAL;VALUE=DURATION:PT1H
X-Robots-Tag:noindex
X-PUBLISHED-TTL:PT1H
BEGIN:VTIMEZONE
TZID:UTC
BEGIN:STANDARD
TZOFFSETFROM:+0000
TZOFFSETTO:+0000
TZNAME:UTC
DTSTART:20260101T000000
END:STANDARD
END:VTIMEZONE
BEGIN:VEVENT
DTSTART;TZID=UTC:20260426T100000
DTEND;TZID=UTC:20260426T110000
DTSTAMP:20260421T101847
CREATED:20260208T165900Z
LAST-MODIFIED:20260208T165900Z
UID:4784-1777197600-1777201200@bjorkoarholma.se
SUMMARY:Barngympa med barnen på Björkö
DESCRIPTION:Rörelselek och gympa för barn i medborgarhuset.
URL:https://bjorkoarholma.se/?tribe_events=barngympa-med-barnen-pa-bjorko-4
LOCATION:Björkö medborgarhus\, Skeppsmyravägen 10\, Väddö
CATEGORIES:Evenemangskalender
ATTACH;FMTTYPE=image/jpeg:https://bjorkoarholma.se/wp-content/uploads/2026/02/Barnen-pa-Bjorko.jpg
ORGANIZER;CN="Bj%C3%B6rk%C3%B6 Arholma Hembygdsf%C3%B6rening":MAILTO:info@bjorkoarholma.se
END:VEVENT
BEGIN:VEVENT
DTSTART;TZID=UTC:20260426T100000
DTEND;TZID=UTC:20260426T150000
DTSTAMP:20260421T101847
CREATED:20260129T162702Z
LAST-MODIFIED:20260129T162702Z
UID:4736-1777197600-1777215600@bjorkoarholma.se
SUMMARY:Vårstädning vid hembygdsgården
DESCRIPTION:Dagen nyttjas till att göra det vårfint kring hembygdsgården. Vi räknar också med att fixa till valborgsbrasan.
URL:https://bjorkoarholma.se/?tribe_events=varstadning-vid-hembygdsgarden
LOCATION:Hembygdsgården\, Stora Marumsvägen 13\, Björkö\, Sverige
CATEGORIES:Evenemangskalender
ATTACH;FMTTYPE=image/jpeg:https://bjorkoarholma.se/wp-content/uploads/2026/01/Varstadning.jpg
ORGANIZER;CN="Bj%C3%B6rk%C3%B6 Arholma Hembygdsf%C3%B6rening":MAILTO:info@bjorkoarholma.se
END:VEVENT
BEGIN:VEVENT
DTSTART;TZID=UTC:20260430T180000
DTEND;TZID=UTC:20260430T210000
DTSTAMP:20260421T101847
CREATED:20260118T222618Z
LAST-MODIFIED:20260405T204826Z
UID:4638-1777572000-1777582800@bjorkoarholma.se
SUMMARY:Valborgfirande på Björkö
DESCRIPTION:Kom och sjung in våren vid hembygdsgården. Vi bjuder på familjefest med brasa\, vårsånger\, fikaservering\, grill\, våfflor och tipsrunda mm.
URL:https://bjorkoarholma.se/?tribe_events=valborgfirande-pa-bjorko
LOCATION:Hembygdsgården\, Stora Marumsvägen 13\, Björkö\, Sverige
CATEGORIES:Evenemangskalender
ATTACH;FMTTYPE=image/jpeg:https://bjorkoarholma.se/wp-content/uploads/2026/01/Valborg_2026.jpg
ORGANIZER;CN="Bj%C3%B6rk%C3%B6 Arholma Hembygdsf%C3%B6rening":MAILTO:info@bjorkoarholma.se
END:VEVENT
BEGIN:VEVENT
DTSTART;TZID=UTC:20260510T130000
DTEND;TZID=UTC:20260510T163000
DTSTAMP:20260421T101847
CREATED:20260328T151000Z
LAST-MODIFIED:20260407T101600Z
UID:4830-1778418000-1778430600@bjorkoarholma.se
SUMMARY:Byggnadsvårdkurs
DESCRIPTION:De två återstående sidorna av Hembygdsgården ska målas om\, och vi ska kunna få chansen att lära dig allt om hur man målar en fasad på ett hållbart vis i en byggnadsvårdskurs. Denna gång kommer även utbildningsdagen två delar:\nMålning med linoljefärg\nKursen inleds med en föreläsning av Anders Furuvik\, expert inom traditionellt måleri och byggnadsvård som även utbildar målare till vardags. Anders  kommer sedan att finnas på plats för praktisk handledning under målandets gång.\nNågot av vad som kommer att behandlas:\n– Val av färg\n– Rätt pensel\n– Val av skrapa\n– Klättra på ställning\n– Användning av speedheater\n– Målning med linoljefärg\n– Säkerhet i målandet\nFönsterrenovering\nDenna del leds av Cecilia  Bondefeldt som driver ett företag med inriktning på fönsterrenovering på Väddö. Cecilia kommer att beskriva hur man med byggnadsvårdsmässiga metoder och kvalitativa material renoverar gamla fönster.\nNågot om vad som kommer att behandlas:\n– Bedömning av renoveringsbehov\n– Lämpliga verktyg\n– Ta bort kitt och fönsterglas\n– Skrapning av fönsterbågarna.\n– Kittning\n– Målning av fönsterbågar\nKursen är gratis – hjälp oss med målningen istället!\nAnmäl dig på formuläret nedan\nAktivera JavaScript i din webbläsare för att slutföra detta formulär.Namn *Email där vi kan nå dig *Mobilnr *Övrigt som ni vill tilläggaSkicka
URL:https://bjorkoarholma.se/?tribe_events=byggnadsvardkurs
LOCATION:Hembygdsgården\, Stora Marumsvägen 13\, Björkö\, Sverige
CATEGORIES:Evenemangskalender
ATTACH;FMTTYPE=image/jpeg:https://bjorkoarholma.se/wp-content/uploads/2026/03/Byggnadsvardskurs-1.jpg
ORGANIZER;CN="Bj%C3%B6rk%C3%B6 Arholma Hembygdsf%C3%B6rening":MAILTO:info@bjorkoarholma.se
END:VEVENT
BEGIN:VEVENT
DTSTART;TZID=UTC:20260511T090000
DTEND;TZID=UTC:20260608T160000
DTSTAMP:20260421T101847
CREATED:20260328T154150Z
LAST-MODIFIED:20260407T101736Z
UID:4643-1778490000-1780934400@bjorkoarholma.se
SUMMARY:Målning av hembygdsgården del 2
DESCRIPTION:Under perioden 11 Maj – 8 Juni kommer vi att med gemensamma krafter skrapa och måla fasaden på hembygdsgården. Detta år räknar vi med att göra de två återstående fasaderna klara med gemensamma krafter\, samtidigt som det hela präglas av att vi är färgglada tillsammans. Handledare för detta är Anders Furuvik. Vi kommer även att ge fönstren på hembygdsgården lite kärlek med handledning av Cecila Bondefeldt.\nVi hoppas att flertalet som medverkar vid målningen har varit med på vår introduktionskurs i linoljemålning mm\, men även du som inte kunde vara med på denna är välkommen att hjälpa till\, vi räknar med att övriga deltagare kan ge nödvändiga tips & instruktioner. För att vi ska kunna organisera målandet på ett bra sätt vill vi gärna att du anmäler med formuläret nedan när du kan medverka\, vi börjar med att lägga ut tillfällen för maj månad\, senare kommer vi att komplettera med tillfällen i juni. Om du kan är vi glada om du anmäler dig de tillfällen du kan medverka två veckor i taget\, men det är inget krav. De pass som är markerade med * i anmälnings formuläret är de som Cilla planerar att medverka\, så vill du få lite kunskaper kring fönster renovering satsar du på något av dessa datum. \n\nSkraplotter\nSom en extra liten krydda under arbetet kommer vi att genomföra ett litet lotteri. Du får en ”skraplott” för varje arbetspass du medverkar på. När det hela är överstökat kommer vi att dra några vinnare som får några trevliga saker vi hoppas ni kan ha glädje av.\nUtrustning mm\nDen utrustning som krävs kommer att finnas på plats. Det kommer att finnas säkra ställningar som man kan jobba från bekvämt. Dessutom kommer det att finnas ett antal speedheaters som underlättar skrapning rejält. Vi ser också till att det finns en matansvarig varje dag som fixar lunch och fikastunder. Det du behöver ha med dig är oömma kläder och ett gott humör.\nMatansvarig\n\nVarje dag har vi en person som är matansvarig\, vilket innebär att man fixar fika stunder och en enklare lunch under dagen till arbetsgänget. Skulle inte målningsarbetet passa dig är detta ett sätt för dig att hjälpa till. Anmäl dig den/de dagar du kan hjälpa till och aange att du vill vara matansvarig. Vi kommer sedan att kontakta dig så du får den info du behöver.\n  \nAnmälan målning av hembygdsgården.Förmulär för anmälan medverkan vid om målning av hembygdsgården.Aktivera JavaScript i din webbläsare för att slutföra detta formulär.Namn *Email där vi kan nå dig *Mobilnr *Övrigt som ni vill tilläggaMålningspass maj månad (markera de pass du nu kan medverka)Måndag 11/5 Fm *Måndag 11/5 Em *Tisdag 12/5 FmTisdag 12/5 EmOnsdag 13/5 Fm *Onsdag 13/5 Em *Torsdag 14/5 FmTorsdag 14/5 EmFredag 15/5 FmFredag 15/5 EmLördag 16/5 fm *Lördag 16/5 em *Söndag 17/5 fmSöndag 17/5 emMåndag 18/5 fmMåndag 18/5 emTisdag 19/5 fmTisdag 19/5 emOnsdag 20/5 fmOnsdag 20/5 emTorsdag 21/5 fmTorsdag 21/5 emFredag 22/5 fmFredag 22/5 emLördag 23/5 fmLördag 23/5 emSöndag 24/5 fmSöndag 24/5 emMåndag 25/5 fmMåndag 25/5 emTisdag 26/5 fmTisdag 26/5 emOnsdag 27/5 fmOnsdag 27/5 emTorsdag 28/5 fmTorsdag 28/5 emFredag 29/5 fmFredag 29/5 emLördag 30/5 fmLördag 30/5 emSkicka
URL:https://bjorkoarholma.se/?tribe_events=malning-av-hembygdsgarden-del-2
CATEGORIES:Evenemangskalender
ATTACH;FMTTYPE=image/jpeg:https://bjorkoarholma.se/wp-content/uploads/2026/03/Malning_2026.jpg
END:VEVENT
BEGIN:VEVENT
DTSTART;TZID=UTC:20260515T153000
DTEND;TZID=UTC:20260515T170000
DTSTAMP:20260421T101847
CREATED:20260208T165104Z
LAST-MODIFIED:20260208T165104Z
UID:4776-1778859000-1778864400@bjorkoarholma.se
SUMMARY:Fredagshäng med barnen på Björkö
DESCRIPTION:Spela spel\, gör pärlarmband\, rita eller lek på vår lekplats\, Vi bjuder på popcorn och saft. Vill du ha något annat att dricka\, ta med själv.
URL:https://bjorkoarholma.se/?tribe_events=fredagshang-med-barnen-pa-bjorko-4
LOCATION:Hembygdsgården\, Stora Marumsvägen 13\, Björkö\, Sverige
ATTACH;FMTTYPE=image/jpeg:https://bjorkoarholma.se/wp-content/uploads/2026/02/Barnen-pa-Bjorko.jpg
ORGANIZER;CN="Bj%C3%B6rk%C3%B6 Arholma Hembygdsf%C3%B6rening":MAILTO:info@bjorkoarholma.se
END:VEVENT
BEGIN:VEVENT
DTSTART;TZID=UTC:20260612T153000
DTEND;TZID=UTC:20260612T170000
DTSTAMP:20260421T101847
CREATED:20260208T165231Z
LAST-MODIFIED:20260208T170604Z
UID:4778-1781278200-1781283600@bjorkoarholma.se
SUMMARY:Fredagshäng med barnen på Björkö
DESCRIPTION:Spela spel\, gör pärlarmband\, rita eller lek på vår lekplats\, Vi bjuder på popcorn och saft. Vill du ha något annat att dricka\, ta med själv.
URL:https://bjorkoarholma.se/?tribe_events=fredagshang-med-barnen-pa-bjorko-5
LOCATION:Hembygdsgården\, Stora Marumsvägen 13\, Björkö\, Sverige
CATEGORIES:Evenemangskalender
ATTACH;FMTTYPE=image/jpeg:https://bjorkoarholma.se/wp-content/uploads/2026/02/Barnen-pa-Bjorko.jpg
ORGANIZER;CN="Bj%C3%B6rk%C3%B6 Arholma Hembygdsf%C3%B6rening":MAILTO:info@bjorkoarholma.se
END:VEVENT
BEGIN:VEVENT
DTSTART;TZID=UTC:20260619T130000
DTEND;TZID=UTC:20260619T160000
DTSTAMP:20260421T101847
CREATED:20260118T221535Z
LAST-MODIFIED:20260118T221705Z
UID:4652-1781874000-1781884800@bjorkoarholma.se
SUMMARY:Midsommarfirande
DESCRIPTION:Familjefest med dans kring lövad stång\, kaffeservering\, lekar och lotterier. Vi klär stången på morgonen kl 9. Kom och hjälp till.\nFirandet börjar kl 13:00.
URL:https://bjorkoarholma.se/?tribe_events=midsommarfirande-2
LOCATION:Hembygdsgården\, Stora Marumsvägen 13\, Björkö\, Sverige
CATEGORIES:Evenemangskalender
ATTACH;FMTTYPE=image/jpeg:https://bjorkoarholma.se/wp-content/uploads/2026/01/Hembygdf_2025-3-av-12-scaled.jpg
ORGANIZER;CN="Bj%C3%B6rk%C3%B6 Arholma Hembygdsf%C3%B6rening":MAILTO:info@bjorkoarholma.se
END:VEVENT
BEGIN:VEVENT
DTSTART;TZID=UTC:20260724T100000
DTEND;TZID=UTC:20260726T170000
DTSTAMP:20260421T101847
CREATED:20260118T223254Z
LAST-MODIFIED:20260118T224423Z
UID:4658-1784887200-1785085200@bjorkoarholma.se
SUMMARY:Ateljerundan 2026
DESCRIPTION:Välkommen till vår artonde ateljerunda med utställningar\, försäljning och fika. Dessa dagar kommer konstnärer på Björkö bjuda in för att visa sina alster på utställningar över hela Björkö\, från Salnö i norr till Ängholmen i söder och med en samlingsutställning på Hembygdsgården.\nFredag kl 15.00 – 18.00\nLördag kl 11.00 – 17.00\nSöndag kl 11.00 – 17.00\nAteljéguiden med karta och presentation av utställarna kommer vid midsommar\, den fysiska foldern delas ut och den digitala kommer att finnas nedan så snart vi tryckt den.
URL:https://bjorkoarholma.se/?tribe_events=ateljerundan-2026
CATEGORIES:Evenemangskalender
ATTACH;FMTTYPE=image/jpeg:https://bjorkoarholma.se/wp-content/uploads/2026/01/Ateljerundan_2026.jpg
ORGANIZER;CN="Bj%C3%B6rk%C3%B6 Arholma Hembygdsf%C3%B6rening":MAILTO:info@bjorkoarholma.se
END:VEVENT
BEGIN:VEVENT
DTSTART;VALUE=DATE:20260727
DTEND;VALUE=DATE:20260801
DTSTAMP:20260421T101847
CREATED:20260118T225804Z
LAST-MODIFIED:20260406T164459Z
UID:4663-1785110400-1785542399@bjorkoarholma.se
SUMMARY:Björköhänget 2026
DESCRIPTION:För tionde året i rad arrangerar kulturföreningar på Björkö ett häng för barn och unga. Hänget pågår i år mellan den 27 juli – 31 juli. Årets tema kommer att vara ”Fred och demokrati”. \nMåndag 27 Juli familjedag\nEn familjedag med aktiviteter i fredens tecken. Denna inleds med ett samtal om fred och demokrati med Johan Oljeqvist\, Fryshusets Vd. Aktiviteterna kommer bland annat att vara sagostunder\, hantverk\, tröjtryck och lekar. Ingen föranmälan krävs och familjer med barn i alla åldrar kan vara med. \nKostnad: 200:-/familj\nTisdag 28 Juli – Torsdag 30 Juli aktivitetsdagar\nAktiviteter i grupper för barn 7-15 år.\nExempel på aktiviteter:\n– Skapa gatsten i betong\n– Hantverk\n– Djur & natur\n– Schack\n– Tidning\n– Dans och musik\nNärmare beskrivning av aktiviteter kommer att finnas färdiga 13 Maj. Då kommer också ett anmälningsformulär att finnas tillgängligt här. \nKostnad: 200:-/barn Reducerad syskonavgift för medlemmar i hembygdsföreningen\, 300 kr för två barn & 400 kr för tre barn.\nFredag 31 Juli\nFamiljedag för barn i alla åldrar. Då vi bjuder på teater\, utställningar och avslutningsaktiviteter.\nKostnad: Ingen kostnad och föranmälan krävs ej
URL:https://bjorkoarholma.se/?tribe_events=bjorkohanget-2026
LOCATION:Hembygdsgården\, Stora Marumsvägen 13\, Björkö\, Sverige
CATEGORIES:Evenemangskalender
ATTACH;FMTTYPE=image/jpeg:https://bjorkoarholma.se/wp-content/uploads/2026/01/Bjorkohanget_2026.jpg
ORGANIZER;CN="Bj%C3%B6rk%C3%B6 Arholma Hembygdsf%C3%B6rening":MAILTO:info@bjorkoarholma.se
END:VEVENT
BEGIN:VEVENT
DTSTART;TZID=UTC:20260727T080000
DTEND;TZID=UTC:20260731T170000
DTSTAMP:20260421T101847
CREATED:20260407T092244Z
LAST-MODIFIED:20260407T094203Z
UID:4891-1785139200-1785517200@bjorkoarholma.se
SUMMARY:Björköhänget 2026 (Kopia)
DESCRIPTION:För tionde året i rad arrangerar kulturföreningar på Björkö ett häng för barn och unga. Hänget pågår i år mellan den 27 juli – 31 juli. Årets tema kommer att vara ”Fred och demokrati”. \nMåndag 27 Juli familjedag\nEn familjedag med aktiviteter i fredens tecken. Denna inleds med ett samtal om fred och demokrati med Johan Oljeqvist\, Fryshusets Vd. Aktiviteterna kommer bland annat att vara sagostunder\, hantverk\, tröjtryck och lekar. Ingen föranmälan krävs och familjer med barn i alla åldrar kan vara med. \nKostnad: 200:-/familj\nTisdag 28 Juli – Torsdag 30 Juli aktivitetsdagar\nAktiviteter i grupper för barn 7-15 år.\nExempel på aktiviteter:\n– Skapa gatsten i betong\n– Hantverk\n– Djur & natur\n– Schack\n– Tidning\n– Dans och musik\nNärmare beskrivning av aktiviteter kommer att finnas färdiga 13 Maj. Då kommer också ett anmälningsformulär att finnas tillgängligt här. \nKostnad: 200:-/barn Reducerad syskonavgift för medlemmar i hembygdsföreningen\, 300 kr för två barn & 400 kr för tre barn.\nFredag 31 Juli\nFamiljedag för barn i alla åldrar. Då vi bjuder på teater\, utställningar och avslutningsaktiviteter.\nKostnad: Ingen kostnad och föranmälan krävs ej\n\n\nIntresseanmälan Björköhänget 2026\nHär nedan intresseanmäler du ditt barn till Björköhänget. \nAktivera JavaScript i din webbläsare för att slutföra detta formulär.Barnets namn *Skriv in för och efternamn på barnet. Om ni vill anmäla fler barn gör en anmälan för varje barn.Barnets ålder *Namn vårdnadshavare *Namn på vuxen som vi kan kontakta under veckan om så skulle behövas.Email till vårdnadshavare *E-postBekräfta e-postMailadress där vi kan nå er under veckan.Mobilnummer vårdnadshavare *Mobilnummer där vi kan nå er under veckan.Adress på Björkö *Intressen *Har ditt barn någon allergi eller något annat vi ledare bör veta? Om ni inte vill skriva det i anmälan så kontakta oss gärna på  info@bjorkoarholma.se så vi kan stämma av. Är det någon dag ni redan nu vet att ert barn inte kommer delta?Vet ni redan nu att ditt barn vill vara med någon kompis/kompisar så skriv han/hennes namn. När vi sen sätter ihop grupperna ska vi försöka uppfylla alla önskemål.Mitt barn kan simma mer än 50 meter.JaNejVi tar ibland foton och delar på våra sociala medier eller på hemsidan och använder i redovisningen till våra finansiärer. Är det ok att vi tar bilder på ditt barn?? *JaNejFörmiddagar 9:00 - 12:00Målarkurs på konstnoden\, älder 6 - 16 år år.Dans i medborgarhuset älder 6 - 16 årMusik i kyrkan älder 6 - 16 årDessa aktiviteter kan du välja mellan på förmiddagarna. I år att vi har fyra längre aktiviteter som pågår tre förmiddagar i rad\, tisdag-torsdag. Ert barn kommer kunna delta på en av dem. Eftermiddagar 13.00-15.00\,SUP - skola\, 6–16 årCupcakekök\, 6–16 årElda + pinnbröd\, 6–16 årTrycka tröjor\, 6–16 årÅterbrukspyssel\, 6-16 år 13:00 - 16:00Magi\, Nybörjare\, 6–16 år\, TisdMagi\, Nybörjare\, 6–16 år\, OnsdMagi\, avancerat\, 6–16 år\, TorsdOBS Magi är tre olika aktiviteter med olika nivå.Alternativa önskemål.Det är "först till kvarn" till aktiviteterna. Skriv här nedan om det finns någon/några andra aktivitet som era barn skulle vilja delta på om den ni valt innan blir full. Rangordna gärna era svar. \n\nDet som finns att välja på är dans\, serieteckning\, konst och musik. Ni behöver inte skriva med den aktivitet ni valde i förra frågan. Gemensam avslutningsdag!Ja\, mitt barn kommer att delta i avslutningsdagen.Nej\, mitt barn kommer inte att delta i avslutningsdagen.På fredagen kommer vi att ha en gemensam avslutningsdag mellan 10.00 - 15.00 för alla barn som deltagit under veckan. Vi har bjudit in Albin Brånebäck\, en ung kille som bygger robotar. De  äldre barnen bygger robotar som vi ska utsmycka och köra på en hinderbana. De yngre barnen bygger hoppande tandborstar.Övrig informationHär kan ni skriva eventuell övrig information ni vill framföra till ledarna.Hantering av personuppgifter *Jag samtycker till att Björkö - Arholma Hembygdsförening hanterar mina och mitt barns personuppgifter i enlighet med beskrivningen nedan.Björkö - Arholma hembyggdsförening behandlar personuppgifter i enlighet med svensk lag. \nI denna anmälan skickar ni in vissa personuppgifter om dig och dina barn. Vi ber om detta för att vi ska kunna administrera veckan och att det ska bli ett tryggt och säkert arrangemang. Alla personuppgifter kommer att raderas en vecka efter hänget.Skicka
URL:https://bjorkoarholma.se/?tribe_events=bjorkohanget-2026-kopia
ATTACH;FMTTYPE=image/jpeg:https://bjorkoarholma.se/wp-content/uploads/2026/02/Barnen-pa-Bjorko.jpg
END:VEVENT
BEGIN:VEVENT
DTSTART;TZID=UTC:20260801T100000
DTEND;TZID=UTC:20260801T150000
DTSTAMP:20260421T101847
CREATED:20260126T154851Z
LAST-MODIFIED:20260126T163042Z
UID:4726-1785578400-1785596400@bjorkoarholma.se
SUMMARY:Björkö Allting
DESCRIPTION:En dag där du kan göra fynden som du aldrig väntat dig. Eller kanske sälja prylarna som samlat damm i dina lådor. Under dagen dukas en riktigt stor loppis och hantverksmarknad upp i Hembygdsgårdens trädgård. Utöver alla försäljnings stånd finns finfika mm att köpa.\nVi kommer senare under försommaren lägga upp ett  formulär nedan där kan du anmäla dig för att sälja saker på alltinget.
URL:https://bjorkoarholma.se/?tribe_events=bjorko-allting-3
LOCATION:Hembygdsgården\, Stora Marumsvägen 13\, Björkö\, Sverige
CATEGORIES:Evenemangskalender
ATTACH;FMTTYPE=image/jpeg:https://bjorkoarholma.se/wp-content/uploads/2026/01/Allting.jpg
ORGANIZER;CN="Bj%C3%B6rk%C3%B6 Arholma Hembygdsf%C3%B6rening":MAILTO:info@bjorkoarholma.se
END:VEVENT
END:VCALENDAR